BEGIN:VCALENDAR
VERSION:2.0
PRODID:-//Clarksville Academy - ECPv6.15.18//NONSGML v1.0//EN
CALSCALE:GREGORIAN
METHOD:PUBLISH
X-ORIGINAL-URL:https://clarksvilleacademy.com
X-WR-CALDESC:Events for Clarksville Academy
REFRESH-INTERVAL;VALUE=DURATION:PT1H
X-Robots-Tag:noindex
X-PUBLISHED-TTL:PT1H
BEGIN:VTIMEZONE
TZID:America/Chicago
BEGIN:DAYLIGHT
TZOFFSETFROM:-0600
TZOFFSETTO:-0500
TZNAME:CDT
DTSTART:20260308T080000
END:DAYLIGHT
BEGIN:STANDARD
TZOFFSETFROM:-0500
TZOFFSETTO:-0600
TZNAME:CST
DTSTART:20261101T070000
END:STANDARD
BEGIN:DAYLIGHT
TZOFFSETFROM:-0600
TZOFFSETTO:-0500
TZNAME:CDT
DTSTART:20270314T080000
END:DAYLIGHT
BEGIN:STANDARD
TZOFFSETFROM:-0500
TZOFFSETTO:-0600
TZNAME:CST
DTSTART:20271107T070000
END:STANDARD
BEGIN:DAYLIGHT
TZOFFSETFROM:-0600
TZOFFSETTO:-0500
TZNAME:CDT
DTSTART:20280312T080000
END:DAYLIGHT
BEGIN:STANDARD
TZOFFSETFROM:-0500
TZOFFSETTO:-0600
TZNAME:CST
DTSTART:20281105T070000
END:STANDARD
END:VTIMEZONE
BEGIN:VEVENT
DTSTART;VALUE=DATE:20270216
DTEND;VALUE=DATE:20270217
DTSTAMP:20260424T154410
CREATED:20260416T170808Z
LAST-MODIFIED:20260424T113025Z
UID:43456-1802736000-1802822399@clarksvilleacademy.com
SUMMARY:Teacher In-Service Day/Students Do Not Report
DESCRIPTION:
URL:https://clarksvilleacademy.com/event/teacher-in-service-day-students-do-not-report-2/
END:VEVENT
BEGIN:VEVENT
DTSTART;VALUE=DATE:20270326
DTEND;VALUE=DATE:20270330
DTSTAMP:20260424T154410
CREATED:20260416T170809Z
LAST-MODIFIED:20260424T113025Z
UID:43457-1806019200-1806364799@clarksvilleacademy.com
SUMMARY:Easter Break - No School
DESCRIPTION:
URL:https://clarksvilleacademy.com/event/easter-break-no-school-12/
END:VEVENT
BEGIN:VEVENT
DTSTART;VALUE=DATE:20270412
DTEND;VALUE=DATE:20270417
DTSTAMP:20260424T154410
CREATED:20260416T170809Z
LAST-MODIFIED:20260424T113026Z
UID:43458-1807488000-1807919999@clarksvilleacademy.com
SUMMARY:Spring Break - No School
DESCRIPTION:
URL:https://clarksvilleacademy.com/event/spring-break-no-school-12/
END:VEVENT
BEGIN:VEVENT
DTSTART;VALUE=DATE:20270419
DTEND;VALUE=DATE:20270420
DTSTAMP:20260424T154410
CREATED:20260416T170810Z
LAST-MODIFIED:20260424T113026Z
UID:43459-1808092800-1808179199@clarksvilleacademy.com
SUMMARY:Teacher In-Service/Students Do Not Report
DESCRIPTION:
URL:https://clarksvilleacademy.com/event/teacher-in-service-students-do-not-report-8/
END:VEVENT
BEGIN:VEVENT
DTSTART;VALUE=DATE:20270427
DTEND;VALUE=DATE:20270430
DTSTAMP:20260424T154410
CREATED:20260416T170811Z
LAST-MODIFIED:20260424T113026Z
UID:43460-1808784000-1809043199@clarksvilleacademy.com
SUMMARY:CTP-5 Standardized Testing
DESCRIPTION:
URL:https://clarksvilleacademy.com/event/ctp-5-standardized-testing/
END:VEVENT
BEGIN:VEVENT
DTSTART;VALUE=DATE:20270504
DTEND;VALUE=DATE:20270507
DTSTAMP:20260424T154410
CREATED:20260416T170811Z
LAST-MODIFIED:20260424T113027Z
UID:43461-1809388800-1809647999@clarksvilleacademy.com
SUMMARY:CTP-5 Standardized Testing
DESCRIPTION:
URL:https://clarksvilleacademy.com/event/ctp-5-standardized-testing-2/
END:VEVENT
BEGIN:VEVENT
DTSTART;TZID=America/Chicago:20270516T140000
DTEND;TZID=America/Chicago:20270516T153000
DTSTAMP:20260424T154410
CREATED:20260416T170812Z
LAST-MODIFIED:20260424T113027Z
UID:43463-1810476000-1810481400@clarksvilleacademy.com
SUMMARY:Class of 2027 Graduation
DESCRIPTION:
URL:https://clarksvilleacademy.com/event/class-of-2027-graduation/
LOCATION:CA’s Activities Center/Procter Court
END:VEVENT
BEGIN:VEVENT
DTSTART;VALUE=DATE:20270521
DTEND;VALUE=DATE:20270522
DTSTAMP:20260424T154410
CREATED:20260416T170812Z
LAST-MODIFIED:20260424T113028Z
UID:43464-1810857600-1810943999@clarksvilleacademy.com
SUMMARY:Exam Review Day
DESCRIPTION:
URL:https://clarksvilleacademy.com/event/exam-review-day-32/
END:VEVENT
BEGIN:VEVENT
DTSTART;VALUE=DATE:20270524
DTEND;VALUE=DATE:20270525
DTSTAMP:20260424T154410
CREATED:20260416T170813Z
LAST-MODIFIED:20260424T113028Z
UID:43465-1811116800-1811203199@clarksvilleacademy.com
SUMMARY:Exam Review/Modified Schedule for MS & US/1st Period Exam Day for 5th - 11th Grades
DESCRIPTION:
URL:https://clarksvilleacademy.com/event/exam-review-modified-schedule-for-ms-us-1st-period-exam-day-for-5th-11th-grades/
END:VEVENT
BEGIN:VEVENT
DTSTART;VALUE=DATE:20270525
DTEND;VALUE=DATE:20270526
DTSTAMP:20260424T154410
CREATED:20260416T170814Z
LAST-MODIFIED:20260424T113028Z
UID:43467-1811203200-1811289599@clarksvilleacademy.com
SUMMARY:Exams for 5th - 11th Grade Students
DESCRIPTION:
URL:https://clarksvilleacademy.com/event/exams-for-5th-11th-grade-students/
END:VEVENT
BEGIN:VEVENT
DTSTART;VALUE=DATE:20270526
DTEND;VALUE=DATE:20270527
DTSTAMP:20260424T154410
CREATED:20260416T170814Z
LAST-MODIFIED:20260424T113030Z
UID:43466-1811289600-1811375999@clarksvilleacademy.com
SUMMARY:Last Day for Lower School Students
DESCRIPTION:
URL:https://clarksvilleacademy.com/event/last-day-for-lower-school-students-3/
END:VEVENT
BEGIN:VEVENT
DTSTART;VALUE=DATE:20270526
DTEND;VALUE=DATE:20270527
DTSTAMP:20260424T154410
CREATED:20260416T170816Z
LAST-MODIFIED:20260424T113029Z
UID:43470-1811289600-1811375999@clarksvilleacademy.com
SUMMARY:Exams for 5th - 11th Grade Students
DESCRIPTION:
URL:https://clarksvilleacademy.com/event/exams-for-5th-11th-grade-students-2/
END:VEVENT
BEGIN:VEVENT
DTSTART;VALUE=DATE:20270527
DTEND;VALUE=DATE:20270528
DTSTAMP:20260424T154410
CREATED:20260416T170815Z
LAST-MODIFIED:20260424T113029Z
UID:43469-1811376000-1811462399@clarksvilleacademy.com
SUMMARY:Last Day for 5th - 11th Grade Students
DESCRIPTION:
URL:https://clarksvilleacademy.com/event/last-day-for-5th-11th-grade-students-2/
END:VEVENT
BEGIN:VEVENT
DTSTART;VALUE=DATE:20270527
DTEND;VALUE=DATE:20270528
DTSTAMP:20260424T154410
CREATED:20260416T170816Z
LAST-MODIFIED:20260424T113030Z
UID:43471-1811376000-1811462399@clarksvilleacademy.com
SUMMARY:Exams for 5th - 11th Grade Students
DESCRIPTION:
URL:https://clarksvilleacademy.com/event/exams-for-5th-11th-grade-students-3/
END:VEVENT
BEGIN:VEVENT
DTSTART;VALUE=DATE:20270528
DTEND;VALUE=DATE:20270529
DTSTAMP:20260424T154410
CREATED:20260416T170815Z
LAST-MODIFIED:20260424T113030Z
UID:43468-1811462400-1811548799@clarksvilleacademy.com
SUMMARY:CA Office Closed
DESCRIPTION:
URL:https://clarksvilleacademy.com/event/ca-office-closed-19/
END:VEVENT
BEGIN:VEVENT
DTSTART;VALUE=DATE:20270531
DTEND;VALUE=DATE:20270601
DTSTAMP:20260424T154410
CREATED:20260416T170817Z
LAST-MODIFIED:20260424T113031Z
UID:43472-1811721600-1811807999@clarksvilleacademy.com
SUMMARY:CA Office Closed
DESCRIPTION:
URL:https://clarksvilleacademy.com/event/ca-office-closed-20/
END:VEVENT
END:VCALENDAR